BEGIN:VCALENDAR
VERSION:2.0
PRODID:-//Contratero//ES
CALSCALE:GREGORIAN
METHOD:PUBLISH
BEGIN:VEVENT
UID:3694/2023 CNSP@contratero.es
DTSTAMP:20260422T000102Z
DTSTART:20240130T235959
DTEND:20240131T005959
SUMMARY:Cierre: Servicio licenciamiento mantenimiento y soporte de
DESCRIPTION:Servicio licenciamiento mantenimiento y soporte del programa video acta para gestión de audio y video actas del Pleno Municipal y de otros órganos de Gobierno del Ayuntamiento de Huesca\\n\\nOrganismo: Alcaldía del Ayuntamiento de Huesca\\n\\nVer en Contratero: https://contratero.es/contracts/3694/2023 CNSP
URL:https://contratero.es/contracts/3694/2023 CNSP
STATUS:CONFIRMED
BEGIN:VALARM
TRIGGER:-P1D
ACTION:DISPLAY
DESCRIPTION:Recordatorio: Servicio licenciamiento manten
END:VALARM
END:VEVENT
END:VCALENDAR